BEGIN:VCALENDAR
VERSION:2.0
PRODID:-//Stubenmusik Berger - ECPv6.8.3//NONSGML v1.0//EN
CALSCALE:GREGORIAN
METHOD:PUBLISH
X-WR-CALNAME:Stubenmusik Berger
X-ORIGINAL-URL:https://www.stubenmusik.at
X-WR-CALDESC:Veranstaltungen für Stubenmusik Berger
REFRESH-INTERVAL;VALUE=DURATION:PT1H
X-Robots-Tag:noindex
X-PUBLISHED-TTL:PT1H
BEGIN:VTIMEZONE
TZID:Europe/Vienna
BEGIN:DAYLIGHT
TZOFFSETFROM:+0100
TZOFFSETTO:+0200
TZNAME:CEST
DTSTART:20250330T010000
END:DAYLIGHT
BEGIN:STANDARD
TZOFFSETFROM:+0200
TZOFFSETTO:+0100
TZNAME:CET
DTSTART:20251026T010000
END:STANDARD
END:VTIMEZONE
BEGIN:VEVENT
DTSTART;TZID=Europe/Vienna:20250905T190000
DTEND;TZID=Europe/Vienna:20250905T210000
DTSTAMP:20260421T204546
CREATED:20250314T203431Z
LAST-MODIFIED:20250621T062800Z
UID:11037-1757098800-1757106000@www.stubenmusik.at
SUMMARY:10-Jahres-Jubiläum Viva la Musica
DESCRIPTION:Zum Jubiläum gibt es von verschiedensten Gruppen\nein 15min Konzert im Kultursaal Steinakirchen am Forst. \n\nStubenmusik Berger\nDreimäderlhaus\nMittelschulchor\nFamilienmusik Eigner\nPianogirls\nTanzlmusi\nViva-Jam\nVolksschulchor\nJagdhornbläser\n\nViva la Musica – Kulturverein\nSchulweg 2\n3261 Steinakirchen \nE-Mail: viva.la.musica@gmx.at\nWeb: www.viva-la-musica.at \n 
URL:https://www.stubenmusik.at/event/10-jahres-jubilaeum-viva-la-musica/
CATEGORIES:Geburtstagsfeier,Kulturveranstaltung
ATTACH;FMTTYPE=image/jpeg:https://www.stubenmusik.at/wp-content/uploads/2025-09-05-15-Jahre-15-Minuten-705x470-1.jpg
END:VEVENT
END:VCALENDAR