BEGIN:VCALENDAR
VERSION:2.0
PRODID:-//Stubenmusik Berger - ECPv6.8.3//NONSGML v1.0//EN
CALSCALE:GREGORIAN
METHOD:PUBLISH
X-WR-CALNAME:Stubenmusik Berger
X-ORIGINAL-URL:https://www.stubenmusik.at
X-WR-CALDESC:Veranstaltungen für Stubenmusik Berger
REFRESH-INTERVAL;VALUE=DURATION:PT1H
X-Robots-Tag:noindex
X-PUBLISHED-TTL:PT1H
BEGIN:VTIMEZONE
TZID:Europe/Vienna
BEGIN:DAYLIGHT
TZOFFSETFROM:+0100
TZOFFSETTO:+0200
TZNAME:CEST
DTSTART:20250330T010000
END:DAYLIGHT
BEGIN:STANDARD
TZOFFSETFROM:+0200
TZOFFSETTO:+0100
TZNAME:CET
DTSTART:20251026T010000
END:STANDARD
END:VTIMEZONE
BEGIN:VEVENT
DTSTART;TZID=Europe/Vienna:20251018T193000
DTEND;TZID=Europe/Vienna:20251018T230000
DTSTAMP:20260421T192142
CREATED:20250823T053623Z
LAST-MODIFIED:20250823T055414Z
UID:11090-1760815800-1760828400@www.stubenmusik.at
SUMMARY:Most4tlerisch aufgspüt in Göstling
DESCRIPTION:Most4tlerisch aufgspüt in Göstling \nMitwirkende:\nStubenmusik Berger\nHöhenrauschmusi\nTexSinger 3er\nMondscheinigen \nModeration: Petra Humpel
URL:https://www.stubenmusik.at/event/most4tlerisch-aufgspuet-in-goestling/
LOCATION:Göstling
CATEGORIES:Heimatabend,Kulturveranstaltung
ATTACH;FMTTYPE=image/png:https://www.stubenmusik.at/wp-content/uploads/pkh-mostviertlerisch_3_300.png
END:VEVENT
END:VCALENDAR