BEGIN:VCALENDAR
VERSION:2.0
PRODID:-//Stubenmusik Berger - ECPv6.8.3//NONSGML v1.0//EN
CALSCALE:GREGORIAN
METHOD:PUBLISH
X-ORIGINAL-URL:https://www.stubenmusik.at
X-WR-CALDESC:Veranstaltungen für Stubenmusik Berger
REFRESH-INTERVAL;VALUE=DURATION:PT1H
X-Robots-Tag:noindex
X-PUBLISHED-TTL:PT1H
BEGIN:VTIMEZONE
TZID:Europe/Vienna
BEGIN:DAYLIGHT
TZOFFSETFROM:+0100
TZOFFSETTO:+0200
TZNAME:CEST
DTSTART:20250330T010000
END:DAYLIGHT
BEGIN:STANDARD
TZOFFSETFROM:+0200
TZOFFSETTO:+0100
TZNAME:CET
DTSTART:20251026T010000
END:STANDARD
END:VTIMEZONE
BEGIN:VEVENT
DTSTART;TZID=Europe/Vienna:20251129T190000
DTEND;TZID=Europe/Vienna:20251129T210000
DTSTAMP:20260421T164518
CREATED:20251112T122149Z
LAST-MODIFIED:20251112T124351Z
UID:11117-1764442800-1764450000@www.stubenmusik.at
SUMMARY:Musikalische Feierstunde in Wolfsbach
DESCRIPTION:Musikalische Feierstunde und Adventkranzweihe in der Pfarrkirche Wolfsbach. \nMitwirkende:\n– Stubenmusik Berger\n– Bläserquartett der Carl Zeller Musikschule\n– Orgelmusik\n– Streichensemble\n– Chor der VS Wolfsbach\n– Kirchenchor Wolfsbach\n– Männergesangsverein Wolfsbach
URL:https://www.stubenmusik.at/event/musikalische-feierstunde-in-wolfsbach/
CATEGORIES:Adventveranstaltung
ATTACH;FMTTYPE=image/jpeg:https://www.stubenmusik.at/wp-content/uploads/wolfsbach.jpg
END:VEVENT
END:VCALENDAR